BEGIN:VCALENDAR
VERSION:2.0
PRODID:-//Dörpsverein Diethe-Bülten-Langern-Strahle e.V. - ECPv6.15.17.1//NONSGML v1.0//EN
CALSCALE:GREGORIAN
METHOD:PUBLISH
X-ORIGINAL-URL:https://diethe-langern.de
X-WR-CALDESC:Veranstaltungen für Dörpsverein Diethe-Bülten-Langern-Strahle e.V.
REFRESH-INTERVAL;VALUE=DURATION:PT1H
X-Robots-Tag:noindex
X-PUBLISHED-TTL:PT1H
BEGIN:VTIMEZONE
TZID:Europe/Berlin
BEGIN:DAYLIGHT
TZOFFSETFROM:+0100
TZOFFSETTO:+0200
TZNAME:CEST
DTSTART:20240331T010000
END:DAYLIGHT
BEGIN:STANDARD
TZOFFSETFROM:+0200
TZOFFSETTO:+0100
TZNAME:CET
DTSTART:20241027T010000
END:STANDARD
BEGIN:DAYLIGHT
TZOFFSETFROM:+0100
TZOFFSETTO:+0200
TZNAME:CEST
DTSTART:20250330T010000
END:DAYLIGHT
BEGIN:STANDARD
TZOFFSETFROM:+0200
TZOFFSETTO:+0100
TZNAME:CET
DTSTART:20251026T010000
END:STANDARD
BEGIN:DAYLIGHT
TZOFFSETFROM:+0100
TZOFFSETTO:+0200
TZNAME:CEST
DTSTART:20260329T010000
END:DAYLIGHT
BEGIN:STANDARD
TZOFFSETFROM:+0200
TZOFFSETTO:+0100
TZNAME:CET
DTSTART:20261025T010000
END:STANDARD
END:VTIMEZONE
BEGIN:VEVENT
DTSTART;TZID=Europe/Berlin:20251002T193000
DTEND;TZID=Europe/Berlin:20251002T193000
DTSTAMP:20260423T142408
CREATED:20250310T062007Z
LAST-MODIFIED:20250701T153154Z
UID:466-1759433400-1759433400@diethe-langern.de
SUMMARY:Mettessen
DESCRIPTION:
URL:https://diethe-langern.de/veranstaltung/mettessen/
LOCATION:Feuerwehr Gerätehaus Diethe-Langern\, Langern 11\, Stolzenau\, 31592
END:VEVENT
END:VCALENDAR